BEGIN:VCALENDAR
PRODID:-//eluceo/ical//2.0/EN
VERSION:2.0
CALSCALE:GREGORIAN
BEGIN:VEVENT
UID:c6cd19d96b8b1af903d86deb902e7ba9
DTSTAMP:20260419T134131Z
SUMMARY:Shoreline Jewish Heritage Program at Evergreen Woods
DESCRIPTION:Jewish Federation of Greater New Haven\nCommunity Calendar\nhtt
 ps://jewishnewhaven.org/eventlist/shoreline-jewish-heritage-program-at-eve
 rgreen-woods-1493404292\n\nDiscussion Facilitated by Sydney Perry.  \nMay&
 #039\;s Topic is: THE 10 COMMANDMENTS: WHICH ONE DO YOU HAVE NO INTENTION 
 OF KEEPING?\n\nEvergreen Woods Vibrant Living Center hosts the Jewish Heri
 tage program for an hour on the third Monday of the month at 2:30 p.m. The
  lecture is an informal discussion about Jews in the News\, current events
  in Israel or history as it relates to a Jewish theme. The program is faci
 litated by Sydney Perry\, local historian and former CEO of the Jewish...
DTSTART;TZID=America/New_York:20170515T143000
DTEND;TZID=America/New_York:20170515T153000
END:VEVENT
END:VCALENDAR
