BEGIN:VCALENDAR
PRODID:-//eluceo/ical//2.0/EN
VERSION:2.0
CALSCALE:GREGORIAN
BEGIN:VEVENT
UID:536778b6407ccca5f72fca1afde7719f
DTSTAMP:20260420T010137Z
SUMMARY:Simchat Torah at B'nai Jacob
DESCRIPTION:Jewish Federation of Greater New Haven\nCommunity Calendar\nhtt
 ps://jewishnewhaven.org/eventlist/simchat-torah-at-bnai-jacob-1757385269\n
 \nCelebratory Service and Meal
DTSTART;TZID=America/New_York:20251015T093000
DTEND;TZID=America/New_York:20251015T120000
END:VEVENT
END:VCALENDAR
