BEGIN:VCALENDAR
PRODID:-//eluceo/ical//2.0/EN
VERSION:2.0
CALSCALE:GREGORIAN
BEGIN:VEVENT
UID:e83c924420eb7bab586e0318786e1c53
DTSTAMP:20260419T150325Z
SUMMARY:Sports Banquet 2
DESCRIPTION:Jewish Federation of Greater New Haven\nCommunity Calendar\nhtt
 ps://jewishnewhaven.org/eventlist/sports-banquet-2-355323\n\n"A good coach
  can change a game\; a great coach can change a life.” —John Wooden\n\
 nJoin us for our\n\nSports Banquet! \n\nCoaches\, teams\, families and fr
 iends- we invite you to join us as we honor Allan Greenberg for all that h
 e has done for our community during his 45 years in the Sports and Recreat
 ion Department here at the JCC! \n\nHelp us honor Allan and the impact he 
 has had on our community's youth. Learn how you can support this event by 
 visiting https://www.jccnh.org/rsvp/sports-...
DTSTART;TZID=America/New_York:20210418T110000
DTEND;TZID=America/New_York:20210418T140000
END:VEVENT
END:VCALENDAR
