BEGIN:VCALENDAR
PRODID:-//eluceo/ical//2.0/EN
VERSION:2.0
CALSCALE:GREGORIAN
BEGIN:VEVENT
UID:f7260c896ccce5ce755dc02e42b485a6
DTSTAMP:20260420T142516Z
SUMMARY:Sukkot Celebration for Children in Pre-K - Grade 2 at Temple Beth D
 avid
DESCRIPTION:Jewish Federation of Greater New Haven\nCommunity Calendar\nhtt
 ps://jewishnewhaven.org/eventlist/sukkot-celebration-for-children-in-pre-k
 ---grade-2-at-temple-beth-david-1665080122\n\nFamilies with children in Pr
 e-K through 2nd Grade are invited to drop in to the Temple Beth David Sukk
 ot to sip hot chocolate\, enjoy an apple cider donut\, do a craft\, and he
 ar a story.
DTSTART;TZID=America/New_York:20221012T163000
DTEND;TZID=America/New_York:20221012T180000
END:VEVENT
END:VCALENDAR
