BEGIN:VCALENDAR
PRODID:-//eluceo/ical//2.0/EN
VERSION:2.0
CALSCALE:GREGORIAN
BEGIN:VEVENT
UID:0ab7904d50076bd8289f03414a8e2b84
DTSTAMP:20260422T034139Z
SUMMARY:Teal Totes for Hope
DESCRIPTION:Jewish Federation of Greater New Haven\nCommunity Calendar\nhtt
 ps://jewishnewhaven.org/eventlist/teal-tots-for-hope\n\nJoin the Women of 
 Vision Society and guest speaker Dr. Elena Ratner of the Yale Cancer Cente
 r for High Tea. This will be a crafternoon filled with knitting\, "goodie"
  bag making\, and so much more! \n\nLearn about the shalws initiative and
  help us as we assemble Teal Totes for Hope for first time reporductive 
 cancer patients. This event also includes a knitting demo and a raffle to
  win a Focus Massage at our very own Spa at the J (www.jccnh.org/spa).\n\n
 Bring your daughters & ganddaugthers!...
DTSTART;TZID=America/New_York:20190428T150000
DTEND;TZID=America/New_York:20190428T163000
END:VEVENT
END:VCALENDAR
