BEGIN:VCALENDAR
PRODID:-//eluceo/ical//2.0/EN
VERSION:2.0
CALSCALE:GREGORIAN
BEGIN:VEVENT
UID:8230f8971d2da53f948f6b1a9936a091
DTSTAMP:20260421T153429Z
SUMMARY:Temple Emanuel Shabbat on the Beach
DESCRIPTION:Jewish Federation of Greater New Haven\nCommunity Calendar\nhtt
 ps://jewishnewhaven.org/eventlist/temple-emanuel-shabbat-on-the-beach-1625
 159861\n\nBring a beach chair\, or a blanket (and bug spray!) to enjoy Sha
 bbat on the shore with Temple Emanuel\, not at Walnut Beach this year. Inv
 ite your family and friends. In case of rain\, service will be held at Tem
 ple Emanuel.
DTSTART;TZID=America/New_York:20210730T183000
DTEND;TZID=America/New_York:20210730T193000
END:VEVENT
END:VCALENDAR
