BEGIN:VCALENDAR
PRODID:-//eluceo/ical//2.0/EN
VERSION:2.0
CALSCALE:GREGORIAN
BEGIN:VEVENT
UID:39708e7ff545d18d675543276682d805
DTSTAMP:20260420T105224Z
SUMMARY:Temple Emanuel's Adult Purim Party!
DESCRIPTION:Jewish Federation of Greater New Haven\nCommunity Calendar\nhtt
 ps://jewishnewhaven.org/eventlist/temple-emanuels-adult-purim-party-176858
 6763\n\nGet ready to party like it's 1985 at Temple Emanuel's 80's Purim S
 piel & Prom!\n\nJoin us for retro music and dancing after the spiel at our
  adult-only party. Prom outfits\, leg warmers\, neon\, and big hair encour
 aged\, but any costume will do. Purim fun for all! Grab your crew\, tease 
 that hair\, and join us for a righteous night of laughs\, costumes\, and c
 elebration!\n\nCome for the spiel\, stay for the prom. It's going to be\, 
 like\, totally megillah-gnificent!\n\nCost is $18 per person if you regi..
 .
DTSTART;TZID=America/New_York:20260228T190000
DTEND;TZID=America/New_York:20260228T210000
END:VEVENT
END:VCALENDAR
