BEGIN:VCALENDAR
PRODID:-//eluceo/ical//2.0/EN
VERSION:2.0
CALSCALE:GREGORIAN
BEGIN:VEVENT
UID:5d7cca247a9069a547d8d2b39aa9d319
DTSTAMP:20260419T121805Z
SUMMARY:Tentative Ezra Academy Gala
DESCRIPTION:Jewish Federation of Greater New Haven\nCommunity Calendar\nhtt
 ps://jewishnewhaven.org/eventlist/tentative-ezra-academy-gala-1687874691\n
 \nAnnual Ezra Academy Gala
DTSTART;TZID=America/New_York:20240302T180000
DTEND;TZID=America/New_York:20240302T213000
END:VEVENT
END:VCALENDAR
