BEGIN:VCALENDAR
PRODID:-//eluceo/ical//2.0/EN
VERSION:2.0
CALSCALE:GREGORIAN
BEGIN:VEVENT
UID:537c0f68e3fefda66c8f4555a40f3bfb
DTSTAMP:20260419T151037Z
SUMMARY:The Kiddush Cup Golf Classic Tournament…Our 16th Year! 
DESCRIPTION:Jewish Federation of Greater New Haven\nCommunity Calendar\nhtt
 ps://jewishnewhaven.org/eventlist/the-kiddush-cup-golf-classic-tournamento
 ur-16th-year-1432857304\n\nBeth Israel Synagogue invites you to join in th
 e fun and challenge of our ever-popular Annual Kiddush Cup Golf Classic\, 
 coming up soon on June 19\, 2015. This event is organized by Beth Israel S
 ynagogue in Wallingford and is open to all.  This year Beth Israel Synagog
 ue will allocate 30% of our proceeds to the Wallingford Emergency Shelter.
DTSTART;TZID=America/New_York:20150619T103000
DTEND;TZID=America/New_York:20150619T235900
END:VEVENT
END:VCALENDAR
