BEGIN:VCALENDAR
PRODID:-//eluceo/ical//2.0/EN
VERSION:2.0
CALSCALE:GREGORIAN
BEGIN:VEVENT
UID:2c065c6b91abc723a75d97589c6b930e
DTSTAMP:20260420T115608Z
SUMMARY:The Krakovsky Documents: JewishGen's Ukraine Research Division Proj
 ect
DESCRIPTION:Jewish Federation of Greater New Haven\nCommunity Calendar\nhtt
 ps://jewishnewhaven.org/eventlist/the-krakovsky-documents-jewishgens-ukrai
 ne-research-division-project-1601313907\n\nOn October 18\, 2020\, at 1:30 
 pm\, genealogist Joel Spector will virtually present “The Krakovsky Docu
 ments: JewishGen's Ukraine Research Division Project: Transliteration\, Pr
 eservation\, and Addition of the Data to JewishGen For Genealogical Resear
 chers" via webinar.Alex Krakovsky\, a Ukrainian Jew\, has been scanning me
 trical and census records found in long-closed Ukrainian archives. He has 
 placed the indexes\, in Cyrillic\, on a webpage for easy access. The curre
 nt Metrical Records Project’s...
DTSTART;TZID=America/New_York:20201018T133000
DTEND;TZID=America/New_York:20201018T153000
END:VEVENT
END:VCALENDAR
