BEGIN:VCALENDAR
PRODID:-//eluceo/ical//2.0/EN
VERSION:2.0
CALSCALE:GREGORIAN
BEGIN:VEVENT
UID:3769a2caf886710ce9371f812b76524f
DTSTAMP:20260421T092242Z
SUMMARY:The Ordering of Moses: New Haven Symphony Orchestra Oratorio
DESCRIPTION:Jewish Federation of Greater New Haven\nCommunity Calendar\nhtt
 ps://jewishnewhaven.org/eventlist/the-ordering-of-moses\n\nDiscover the gr
 oundbreaking artistry of Nathaniel Dett’s The Ordering of Moses\, a 1937
  oratorio that brings to life Moses’ journey from the burning bush to th
 e Red Sea with rich\, emotional orchestration.
DTSTART;TZID=America/New_York:20250209T150000
DTEND;TZID=America/New_York:20250209T170000
END:VEVENT
END:VCALENDAR
