BEGIN:VCALENDAR
PRODID:-//eluceo/ical//2.0/EN
VERSION:2.0
CALSCALE:GREGORIAN
BEGIN:VEVENT
UID:89615ce1f61f8f4542e00fb5df8dec39
DTSTAMP:20260419T122022Z
SUMMARY:Tot Shabbat at Congregation Mishkan Israel
DESCRIPTION:Jewish Federation of Greater New Haven\nCommunity Calendar\nhtt
 ps://jewishnewhaven.org/eventlist/tot-shabbat-at-congregation-mishkan-isra
 el-1419877552\n\nFAMILIES INVITED TO CELEBRATE TOT SHABBAT AT CMI\nCongreg
 ation Mishkan Israel (CMI) invites families with children 6 years and unde
 r to a Tot Shabbat on Friday\, February 6 at 6:00 p.m.\nThe celebrations o
 f Shabbat are a wonderful opportunity for families with preschool aged chi
 ldren to get to know each other and enjoy a morning of blessings\, stories
 \, food and fun.\nCongregation Mishkan Israel is a reform synagogue locate
 d at 785 Ridge Road in Hamden. For more information\, contact the synagogu
 ...
DTSTART;TZID=America/New_York:20150206T180000
DTEND;TZID=America/New_York:20150206T193000
END:VEVENT
END:VCALENDAR
