BEGIN:VCALENDAR
PRODID:-//eluceo/ical//2.0/EN
VERSION:2.0
CALSCALE:GREGORIAN
BEGIN:VEVENT
UID:005f155ce182219e572fbc1687ac4683
DTSTAMP:20260421T093145Z
SUMMARY:Total Body Conditioning with Nicole at 5 PM
DESCRIPTION:Jewish Federation of Greater New Haven\nCommunity Calendar\nhtt
 ps://jewishnewhaven.org/eventlist/total-body-conditioning-with-nicole-at-5
 -pm-346900\n\nJoin Zoom Meeting\n\nhttps://zoom.us/j/761163636
DTSTART;TZID=America/New_York:20200323T170000
DTEND;TZID=America/New_York:20200323T174500
END:VEVENT
END:VCALENDAR
