BEGIN:VCALENDAR
PRODID:-//eluceo/ical//2.0/EN
VERSION:2.0
CALSCALE:GREGORIAN
BEGIN:VEVENT
UID:79905fe0929b20406cc1da3e848d965d
DTSTAMP:20260421T090909Z
SUMMARY:Tot Shabbat
DESCRIPTION:Jewish Federation of Greater New Haven\nCommunity Calendar\nhtt
 ps://jewishnewhaven.org/eventlist/totshabbat\n\nMeet new families at Shalo
 m Baby Tot Shabbat! Informal programming and opportunities to make lifel
 ong friendships. Best for babies and toddlers 0-4 years old.\n\n \n\nFor 
 more information\, please reach out to Elisabeth Warren at ewarren@jewishn
 ewhaven.org
DTSTART;TZID=America/New_York:20250919T093000
DTEND;TZID=America/New_York:20250919T110000
END:VEVENT
END:VCALENDAR
