BEGIN:VCALENDAR
PRODID:-//eluceo/ical//2.0/EN
VERSION:2.0
CALSCALE:GREGORIAN
BEGIN:VEVENT
UID:fdd4074149690172cdfeeab6d2cd4e19
DTSTAMP:20260419T150156Z
SUMMARY:Women Philanthropy Luncheon in honor of Stacey Trachten
DESCRIPTION:Jewish Federation of Greater New Haven\nCommunity Calendar\nhtt
 ps://jewishnewhaven.org/eventlist/wp-luncheon-in-honor-of-stacey-trachten\
 n\nWomen Philanthropy Luncheon in honor of Stacey Trachten
DTSTART;TZID=America/New_York:20190410T120000
DTEND;TZID=America/New_York:20190410T140000
END:VEVENT
END:VCALENDAR
