BEGIN:VCALENDAR
PRODID:-//eluceo/ical//2.0/EN
VERSION:2.0
CALSCALE:GREGORIAN
BEGIN:VEVENT
UID:6a6a13721d349ee610e13f05627c6a05
DTSTAMP:20260420T010351Z
SUMMARY:Yom Kippur Services Congregation Or Shalom
DESCRIPTION:Jewish Federation of Greater New Haven\nCommunity Calendar\nhtt
 ps://jewishnewhaven.org/eventlist/yom-kippur-services-congregation-or-shal
 om-1759104444\n\nYOM KIPPUR EVE\nno ticket needed \nTUESDAY\, OCTOBER 1\n4
 -6 PM “Operation Isaiah” collection of\nnon-perishable foods for the n
 eedy\n6:15 PM Kol Nidre Service\nYOM KIPPUR DAY\nticket needed. call the o
 ffice 203-799-2341\nWEDNESDAY\, OCTOBER 2\n8:30 AM Shaharit Morning Servic
 e\n9:15 AM Torah Service\n9:30 AM Rabbi meets children for retelling of\nt
 he Story of Jonah\n…Rabbi then dismisses children to Youth\nServices\n10
 :45AM Yizkor Memorial Service\n10:55 AM Sermon by Rabbi Lindsey...
DTSTART;TZID=America/New_York:20251002T083000
DTEND;TZID=America/New_York:20251002T103000
END:VEVENT
END:VCALENDAR
