BEGIN:VCALENDAR
PRODID:-//eluceo/ical//2.0/EN
VERSION:2.0
CALSCALE:GREGORIAN
BEGIN:VEVENT
UID:e40cae7cf508b99709e1edf5ad68e42c
DTSTAMP:20260420T050650Z
SUMMARY:Young Families at Temple Beth Sholom Acts of Kindness - G'milut Cha
 sadim
DESCRIPTION:Jewish Federation of Greater New Haven\nCommunity Calendar\nhtt
 ps://jewishnewhaven.org/eventlist/young-families-at-temple-beth-sholom-act
 s-of-kindness---gmilut-chasadim-1768321466\n\nFree program on Sundays 10-1
 1:15 for young families in the Greater New Haven Community
DTSTART;TZID=America/New_York:20260222T100000
DTEND;TZID=America/New_York:20260222T111500
END:VEVENT
END:VCALENDAR
