BEGIN:VCALENDAR
PRODID:-//eluceo/ical//2.0/EN
VERSION:2.0
CALSCALE:GREGORIAN
BEGIN:VEVENT
UID:4c324976c3a917ccd5df18a50d6b219a
DTSTAMP:20260420T025126Z
SUMMARY:Young Families at Temple Beth Sholom Tzedaka Charity and Good Deeds
DESCRIPTION:Jewish Federation of Greater New Haven\nCommunity Calendar\nhtt
 ps://jewishnewhaven.org/eventlist/young-families-at-temple-beth-sholom-tze
 daka-charity-and-good-deeds-1768321565\n\nSimcha Sundays Young Families Ev
 ent at Temple Beth Sholom Hamden
DTSTART;TZID=America/New_York:20260426T100000
DTEND;TZID=America/New_York:20260426T111500
END:VEVENT
END:VCALENDAR
