BEGIN:VCALENDAR
PRODID:-//eluceo/ical//2.0/EN
VERSION:2.0
CALSCALE:GREGORIAN
BEGIN:VEVENT
UID:e75aa7bf537efbeee2195834c6b3e118
DTSTAMP:20260421T123634Z
SUMMARY:Young Professionals Dodgeball League
DESCRIPTION:Jewish Federation of Greater New Haven\nCommunity Calendar\nhtt
 ps://jewishnewhaven.org/eventlist/young-professionals-dodgeball-league-144
 7431117-171600\n\nJoin your peers this winter for some friendly dodge ball
  league play! Get a team of 21-40 somethings together\, or sign up as an i
 ndividual to meet some new people. Each team must have at least six player
 s with a maximum of ten. Only have five? No problem! The JCC will fill the
  rest of your roster with free agents. All teams must have at least two wo
 men on the court at all times. Enjoy some post-game food and drinks with t
 he rest of the league for added fun! Registration includes 6 games and a..
 .
DTSTART;TZID=America/New_York:20160126T193000
DTEND;TZID=America/New_York:20160126T213000
END:VEVENT
END:VCALENDAR
